BEGIN:VCALENDAR
VERSION:2.0
PRODID:-//Climate Action Lewisham - ECPv5.1.2.1//NONSGML v1.0//EN
CALSCALE:GREGORIAN
METHOD:PUBLISH
X-WR-CALNAME:Climate Action Lewisham
X-ORIGINAL-URL:https://climateactionlewisham.org
X-WR-CALDESC:Events for Climate Action Lewisham
BEGIN:VTIMEZONE
TZID:UTC
BEGIN:STANDARD
TZOFFSETFROM:+0000
TZOFFSETTO:+0000
TZNAME:UTC
DTSTART:20240101T000000
END:STANDARD
END:VTIMEZONE
BEGIN:VEVENT
DTSTART;TZID=UTC:20241012T100000
DTEND;TZID=UTC:20241012T120000
DTSTAMP:20260421T173305
CREATED:20241005T201322Z
LAST-MODIFIED:20241005T201322Z
UID:2376-1728727200-1728734400@climateactionlewisham.org
SUMMARY:Litter Pick along the River Pool
DESCRIPTION:\n\nWe’ll be holding a litter pick with Waterlink Way of Life on Saturday 12th October from 10am-12pm.  The first hour will be a podcast walk along the Waterlink Way with urban sociologists Dr Emma Jackson and Dr Lousie Rondel.  Then from 11am we’ll be collecting litter along the River Pool Linear Park.\nChildren are welcome so long as they’re accompanied by an adult.  It should be an illuminating way of spending a Saturday morning!  Hope you can join us.\nPlease book either walk\, litter pick or both on eventbrite:\n\nhttps://www.eventbrite.co.uk/e/rivers-of-lewisham-podcast-walk-litter-pick-tickets-1039074318257?aff=oddtdtcreator\n
URL:https://climateactionlewisham.org/event/litter-pick-along-the-river-pool/
END:VEVENT
END:VCALENDAR