BEGIN:VCALENDAR
VERSION:2.0
PRODID:-//Climate Action Lewisham - ECPv5.1.2.1//NONSGML v1.0//EN
CALSCALE:GREGORIAN
METHOD:PUBLISH
X-WR-CALNAME:Climate Action Lewisham
X-ORIGINAL-URL:https://climateactionlewisham.org
X-WR-CALDESC:Events for Climate Action Lewisham
BEGIN:VTIMEZONE
TZID:Europe/London
BEGIN:DAYLIGHT
TZOFFSETFROM:+0000
TZOFFSETTO:+0100
TZNAME:BST
DTSTART:20230326T010000
END:DAYLIGHT
BEGIN:STANDARD
TZOFFSETFROM:+0100
TZOFFSETTO:+0000
TZNAME:GMT
DTSTART:20231029T010000
END:STANDARD
TZID:UTC
BEGIN:STANDARD
TZOFFSETFROM:+0000
TZOFFSETTO:+0000
TZNAME:UTC
DTSTART:20230101T000000
END:STANDARD
END:VTIMEZONE
BEGIN:VEVENT
DTSTART;TZID=Europe/London:20231008T100000
DTEND;TZID=Europe/London:20231008T130000
DTSTAMP:20260422T132445
CREATED:20230907T171835Z
LAST-MODIFIED:20230909T090713Z
UID:2244-1696759200-1696770000@climateactionlewisham.org
SUMMARY:Lewisham Family Cycling Workshop\, Deptford Park
DESCRIPTION: \n  \nTry out a range of family cycling equipment for free at Deptford Park. We have an electric cargo bike and trailers. \nDetails and booking via Eventbrite here. \n
URL:https://climateactionlewisham.org/event/lewisham-family-cycling-workshop-deptford-park/
END:VEVENT
BEGIN:VEVENT
DTSTART;TZID=UTC:20231017T190000
DTEND;TZID=UTC:20231017T200000
DTSTAMP:20260422T132446
CREATED:20230925T120009Z
LAST-MODIFIED:20230925T121417Z
UID:2260-1697569200-1697572800@climateactionlewisham.org
SUMMARY:Climate Action Lewisham EGM
DESCRIPTION:Climate Action Lewisham will have an Extraordinary General Meeting on Tuesday 17th October 2023 from 7pm-8pm. \nThe purpose of this meeting is to discuss and vote on proposed changes to the group’s management structure\, as well as a proposed new membership system. This will involve a change to the group’s constitution — you can find the current version here. \nIt will be held via Zoom\, and all are welcome. For details of how to join and to enable voting rights\, please email us at info@climateactionlewisham.org. \n  \n
URL:https://climateactionlewisham.org/event/climate-action-lewisham-egm/
END:VEVENT
END:VCALENDAR