BEGIN:VCALENDAR
VERSION:2.0
PRODID:-//Climate Action Lewisham - ECPv5.1.2.1//NONSGML v1.0//EN
CALSCALE:GREGORIAN
METHOD:PUBLISH
X-WR-CALNAME:Climate Action Lewisham
X-ORIGINAL-URL:https://climateactionlewisham.org
X-WR-CALDESC:Events for Climate Action Lewisham
BEGIN:VTIMEZONE
TZID:Europe/London
BEGIN:DAYLIGHT
TZOFFSETFROM:+0000
TZOFFSETTO:+0100
TZNAME:BST
DTSTART:20220327T010000
END:DAYLIGHT
BEGIN:STANDARD
TZOFFSETFROM:+0100
TZOFFSETTO:+0000
TZNAME:GMT
DTSTART:20221030T010000
END:STANDARD
TZID:UTC
BEGIN:STANDARD
TZOFFSETFROM:+0000
TZOFFSETTO:+0000
TZNAME:UTC
DTSTART:20220101T000000
END:STANDARD
END:VTIMEZONE
BEGIN:VEVENT
DTSTART;TZID=Europe/London:20220109T170000
DTEND;TZID=Europe/London:20220109T183000
DTSTAMP:20260424T011306
CREATED:20220104T212741Z
LAST-MODIFIED:20220104T212741Z
UID:1918-1641747600-1641753000@climateactionlewisham.org
SUMMARY:Green Your Eats with CocoCollective
DESCRIPTION:Green your Eats cookalong with Ellie Ravindranath from CocoCollective \nCannellini bean stew\, bulgar wheat\, fried paprika plantain and mixed salad\nPlease see Eventbrite link for more details and to register! \n
URL:https://climateactionlewisham.org/event/green-your-eats-with-cococollective/
END:VEVENT
BEGIN:VEVENT
DTSTART;TZID=Europe/London:20220116T170000
DTEND;TZID=Europe/London:20220116T183000
DTSTAMP:20260424T011306
CREATED:20220102T165950Z
LAST-MODIFIED:20220102T165950Z
UID:1912-1642352400-1642357800@climateactionlewisham.org
SUMMARY:Green Your Eats with Theresa Webb
DESCRIPTION:\n\n\n\nLiving foods\, detox and nutrition\n\n\nBudget friendly raw foods in winter – easy vegan nutrition in under 10 mins a day\n\n\n\n\nPlease see Eventbrite link for more details and to register.\n
URL:https://climateactionlewisham.org/event/green-your-eats-with-theresa-webb/
END:VEVENT
BEGIN:VEVENT
DTSTART;TZID=Europe/London:20220123T170000
DTEND;TZID=Europe/London:20220123T183000
DTSTAMP:20260424T011306
CREATED:20220118T223902Z
LAST-MODIFIED:20220118T223902Z
UID:1925-1642957200-1642962600@climateactionlewisham.org
SUMMARY:Green Your Eats - Soy and Ginger Tofu
DESCRIPTION:With Tomasina Stacey \nPlease see Eventbrite link for details and to register. \n
URL:https://climateactionlewisham.org/event/green-your-eats-soy-and-ginger-tofu/
END:VEVENT
BEGIN:VEVENT
DTSTART;TZID=UTC:20220130T170000
DTEND;TZID=UTC:20220130T183000
DTSTAMP:20260424T011306
CREATED:20220118T224150Z
LAST-MODIFIED:20220118T224150Z
UID:1927-1643562000-1643567400@climateactionlewisham.org
SUMMARY:Green Your Eats - simple Japanese dishes
DESCRIPTION:Sonia Heaton will be showing us how to cook some simple plant-based Japanese dishes. \nPlease see Eventbrite for details and to register. \n
URL:https://climateactionlewisham.org/event/green-your-eats-simple-japanese-dishes/
END:VEVENT
END:VCALENDAR