BEGIN:VCALENDAR
VERSION:2.0
PRODID:-//Climate Action Lewisham - ECPv5.1.2.1//NONSGML v1.0//EN
CALSCALE:GREGORIAN
METHOD:PUBLISH
X-WR-CALNAME:Climate Action Lewisham
X-ORIGINAL-URL:https://climateactionlewisham.org
X-WR-CALDESC:Events for Climate Action Lewisham
BEGIN:VTIMEZONE
TZID:UTC
BEGIN:STANDARD
TZOFFSETFROM:+0000
TZOFFSETTO:+0000
TZNAME:UTC
DTSTART:20230101T000000
END:STANDARD
END:VTIMEZONE
BEGIN:VEVENT
DTSTART;TZID=UTC:20230114T140000
DTEND;TZID=UTC:20230114T160000
DTSTAMP:20260421T100857
CREATED:20230103T101737Z
LAST-MODIFIED:20230103T101737Z
UID:2110-1673704800-1673712000@climateactionlewisham.org
SUMMARY:Volunteer Event!
DESCRIPTION: \n  \nIf you want to help the planet but don’t know where to start\, come to our volunteer event and meet local organisations in Lewisham working to save our planet. \n  \nBook through Eventbrite. \n
URL:https://climateactionlewisham.org/event/volunteer-event/
LOCATION:The Migration Museum\, Lewisham Shopping Centre\, London\, SE13 7HB
END:VEVENT
END:VCALENDAR