BEGIN:VCALENDAR
VERSION:2.0
PRODID:-//Climate Action Lewisham - ECPv5.1.2.1//NONSGML v1.0//EN
CALSCALE:GREGORIAN
METHOD:PUBLISH
X-WR-CALNAME:Climate Action Lewisham
X-ORIGINAL-URL:https://climateactionlewisham.org
X-WR-CALDESC:Events for Climate Action Lewisham
BEGIN:VTIMEZONE
TZID:Europe/London
BEGIN:DAYLIGHT
TZOFFSETFROM:+0000
TZOFFSETTO:+0100
TZNAME:BST
DTSTART:20230326T010000
END:DAYLIGHT
BEGIN:STANDARD
TZOFFSETFROM:+0100
TZOFFSETTO:+0000
TZNAME:GMT
DTSTART:20231029T010000
END:STANDARD
END:VTIMEZONE
BEGIN:VEVENT
DTSTART;TZID=Europe/London:20231214T190000
DTEND;TZID=Europe/London:20231214T220000
DTSTAMP:20260421T100836
CREATED:20231114T094356Z
LAST-MODIFIED:20231114T094356Z
UID:2288-1702580400-1702591200@climateactionlewisham.org
SUMMARY:Retrofitting
DESCRIPTION:Retrofitting – Making our Homes More Energy Efficient\nWe’re delighted to hold this in-person event to talk about improving our homes to cut carbon emissions and heating bills. \nWe’ll also be holding a small social after to chat and catch up! \nDetails and tickets via Eventbrite \n
URL:https://climateactionlewisham.org/event/retrofitting/
LOCATION:St Saviour’s Church Hall\, Brockley Rise\, London\, SE23 1JN
END:VEVENT
END:VCALENDAR