BEGIN:VCALENDAR
VERSION:2.0
PRODID:-//Climate Action Lewisham - ECPv5.1.2.1//NONSGML v1.0//EN
CALSCALE:GREGORIAN
METHOD:PUBLISH
X-WR-CALNAME:Climate Action Lewisham
X-ORIGINAL-URL:https://climateactionlewisham.org
X-WR-CALDESC:Events for Climate Action Lewisham
BEGIN:VTIMEZONE
TZID:UTC
BEGIN:STANDARD
TZOFFSETFROM:+0000
TZOFFSETTO:+0000
TZNAME:UTC
DTSTART:20230101T000000
END:STANDARD
END:VTIMEZONE
BEGIN:VEVENT
DTSTART;TZID=UTC:20231112T140000
DTEND;TZID=UTC:20231112T153000
DTSTAMP:20260421T085628
CREATED:20231020T123937Z
LAST-MODIFIED:20231020T123937Z
UID:2271-1699797600-1699803000@climateactionlewisham.org
SUMMARY:How clean is your money? Banking\, pensions and the climate crisis
DESCRIPTION:What role do banks and pension providers play in the climate crisis? How can we move away from dirty finance? \nHolly Coyle will facilitate this online meeting about the role that banks and pension providers play in the climate crisis\, the impact of switching providers\, and how we can make a difference in our personal finance\, at work\, and in our local community. \n
URL:https://climateactionlewisham.org/event/how-clean-is-your-money-banking-pensions-and-the-climate-crisis/
LOCATION:Online
END:VEVENT
END:VCALENDAR