BEGIN:VCALENDAR
VERSION:2.0
PRODID:-//Climate Action Lewisham - ECPv5.1.2.1//NONSGML v1.0//EN
CALSCALE:GREGORIAN
METHOD:PUBLISH
X-WR-CALNAME:Climate Action Lewisham
X-ORIGINAL-URL:https://climateactionlewisham.org
X-WR-CALDESC:Events for Climate Action Lewisham
BEGIN:VTIMEZONE
TZID:UTC
BEGIN:STANDARD
TZOFFSETFROM:+0000
TZOFFSETTO:+0000
TZNAME:UTC
DTSTART:20220101T000000
END:STANDARD
END:VTIMEZONE
BEGIN:VEVENT
DTSTART;TZID=UTC:20220130T170000
DTEND;TZID=UTC:20220130T183000
DTSTAMP:20260421T083408
CREATED:20220118T224150Z
LAST-MODIFIED:20220118T224150Z
UID:1927-1643562000-1643567400@climateactionlewisham.org
SUMMARY:Green Your Eats - simple Japanese dishes
DESCRIPTION:Sonia Heaton will be showing us how to cook some simple plant-based Japanese dishes. \nPlease see Eventbrite for details and to register. \n
URL:https://climateactionlewisham.org/event/green-your-eats-simple-japanese-dishes/
END:VEVENT
END:VCALENDAR